Workbook

Sheet فرم روکش
A1: بودجه تفصيلي سال 1404 | C1: عنوان دستگاه : دانشگاه علوم پزشکی نیشابور
A2: فرم شماره 1 | C2: شماره ردیف: 124115 | F2: مبالغ به میلیون ریال
A3: ردیف | B3: عنوان | C3: پیش بینی بودجه سال 1404 | F3: جمع
C4: عمومی (کمک دولت ) | D4: اختصاصی | E4: سایر منابع
A5: منابع (هزینه ای)
A6: جمع کل | C6: =SUM(C7:C14) -> 15662578 | D6: =SUM(D7:D14) -> 15691803 | E6: =SUM(E7:E14) -> 265642 | F6: =SUM(C6:E6) -> 31620023
A7: 1 | B7: قانون بودجه | C7: ='[1]منابع به برنامه'!N9 -> 10035000 | D7: ='[1]منابع به برنامه'!O9 -> 8875798 | F7: =SUM(C7:E7) -> 18910798
A8: 2 | B8: کاهش /افزایش اعتبار | C8: ='[1]منابع به برنامه'!Q9 -> -301050 | D8: ='[1]منابع به برنامه'!R9 -> 0 | F8: =SUM(C8:E8) -> -301050
A9: 3 | B9: وجوه نقد در ابتدای سال ( انتقالی از سال قبل) | C9: ='[1]منابع به برنامه'!D9+'[1]منابع به برنامه'!E9 -> 210028 | D9: ='[1]منابع به برنامه'!F9+'[1]منابع به برنامه'!G9 -> 576792 | E9: ='[1]منابع به برنامه'!H9 -> 0 | F9: =SUM(C9:E9) -> 786820
A10: 4 | B10: مطالبات در ابتدای سال ( انتقالی از سال قبل) | C10: ='[1]منابع به برنامه'!J9 -> 0 | D10: ='[1]منابع به برنامه'!K9 -> 3708121 | E10: ='[1]منابع به برنامه'!L9 -> 0 | F10: =SUM(C10:E10) -> 3708121
A11: 5 | B11: مصوبه هیأت‌امنا (اعتبارتملک دارایی از محل درآمد اختصاصی) | D11: ='[1]منابع به برنامه'!W9 -> -269508.9 | F11: =SUM(C11:E11) -> -269508.9
A12: 6 | B12: اعتبار ردیف‌های ابلاغی | C12: ='[1]منابع به برنامه'!X9 -> 2425455 | D12: ='[1]منابع به برنامه'!Y9 -> 356740 | F12: =SUM(C12:E12) -> 2782195
A13: 7 | B13: کمک اشخاص حقیقی یا حقوقی | E13: ='[1]منابع به برنامه'!AA9 -> 0 | F13: =SUM(C13:E13) -> 0
A14: 8 | B14: سایر اعتبارات | C14: ='[1]منابع به برنامه'!AB9 -> 3293145 | D14: ='[1]منابع به برنامه'!AC9 -> 2443861 | E14: ='[1]منابع به برنامه'!AD9 -> 265642 | F14: =SUM(C14:E14) -> 6002648
A15: مصارف (هزینه‌ای)
A16: جمع کل | C16: =SUM(C17:C24) -> 15662578 | D16: =SUM(D17:D24) -> 15691803 | E16: =SUM(E17:E24) -> 265642 | F16: =SUM(F17:F24) -> 31620023
A17: 1 | B17: تعهدات در ابتدای سال ( انتقالی از سال قبل) | C17: ='[1]مصارف به فصل'!C8 -> 647098 | D17: ='[1]مصارف به فصل'!D8 -> 4788654 | E17: ='[1]مصارف به فصل'!E8 -> 55010 | F17: =SUM(C17:E17) -> 5490762
A18: 2 | B18: مصارف فصل اول (جبران خدمت کارکنان) | C18: ='[1]مصارف به فصل'!C9 -> 13165838 | D18: ='[1]مصارف به فصل'!D9 -> 1071467 | E18: ='[1]مصارف به فصل'!E9 -> 210632 | F18: =SUM(C18:E18) -> 14447937
A19: 3 | B19: مصارف فصل دوم (استفاده از کالا و خدمات) | C19: ='[1]مصارف به فصل'!C21 -> 1780034 | D19: ='[1]مصارف به فصل'!D21 -> 9536871 | E19: ='[1]مصارف به فصل'!E21 -> 0 | F19: =SUM(C19:E19) -> 11316905
A20: 4 | B20: مصارف فصل چهارم (بهره-سود) | C20: ='[1]مصارف به فصل'!C33 -> 0 | D20: ='[1]مصارف به فصل'!D33 -> 0 | E20: ='[1]مصارف به فصل'!E33 -> 0 | F20: =SUM(C20:E20) -> 0
A21: 5 | B21: مصارف فصل پنجم (یارانه) | C21: ='[1]مصارف به فصل'!C36 -> 0 | D21: ='[1]مصارف به فصل'!D36 -> 0 | E21: ='[1]مصارف به فصل'!E36 -> 0 | F21: =SUM(C21:E21) -> 0
A22: 6 | B22: مصارف فصل ششم (کمک های بلاعوض) | C22: ='[1]مصارف به فصل'!C38 -> 0 | D22: ='[1]مصارف به فصل'!D38 -> 87618 | E22: ='[1]مصارف به فصل'!E38 -> 0 | F22: =SUM(C22:E22) -> 87618
A23: 7 | B23: مصارف فصل هفتم (منافع (مزایای) اجتماعی) | C23: ='[1]مصارف به فصل'!C41 -> 63797 | D23: ='[1]مصارف به فصل'!D41 -> 4095 | E23: ='[1]مصارف به فصل'!E41 -> 0 | F23: =SUM(C23:E23) -> 67892
A24: 8 | B24: مصارف فصل هشتم (سایر هزینه ها) | C24: ='[1]مصارف به فصل'!C46 -> 5811 | D24: ='[1]مصارف به فصل'!D46 -> 203098 | E24: ='[1]مصارف به فصل'!E46 -> 0 | F24: =SUM(C24:E24) -> 208909
A25: منابع (تملک دارایی های سرمایه ای)
A26: جمع کل | C26: =SUM(C27:C33) -> 3493619.8 | D26: =SUM(D27:D33) -> 1650670 | E26: =SUM(E27:E33) -> 1949582 | F26: =SUM(F27:F33) -> 7093871.8
A27: 1 | B27: قانون بودجه | C27: =[1]تملک!N8 -> 1936607 | F27: =SUM(C27:E27) -> 1936607
A28: 2 | B28: کاهش/افزایش اعتبار | C28: =[1]تملک!O8 -> -58098.21 | D28: ='[1]پروژه های مولد سازی '!J8 -> 1381160 | F28: =SUM(C28:E28) -> 1323061.8
A29: 3 | B29: وجوه نقد در ابتدای سال ( انتقالی از سال قبل) | C29: =[1]تملک!K8 -> 396190 | E29: =[1]تملک!L8 -> 0 | F29: =SUM(C29:E29) -> 396190
A30: 4 | B30: اعتبارات استانی | C30: =[1]تملک!Q8 -> 303677 | F30: =SUM(C30:E30) -> 303677
A31: 5 | B31: اعتبار ردیف‌های ابلاغی | C31: =[1]تملک!R8 -> 915244 | D31: =[1]تملک!S8 -> 0 | F31: =SUM(C31:E31) -> 915244
A32: 6 | B32: مصوبه هیأت‌امنا (اعتبارتملک دارایی از محل درآمد اختصاصی) | D32: =[1]تملک!T8 -> 269510 | F32: =SUM(C32:E32) -> 269510
A33: 7 | B33: کمک اشخاص حقیقی یا حقوقی | E33: =[1]تملک!U8 -> 1949582 | F33: =SUM(C33:E33) -> 1949582
A34: مصارف (تملک دارایی های سرمایه ای)
A35: جمع کل | C35: =SUM(C36:C39) -> 3493620 | D35: =SUM(D36:D39) -> 1650670 | E35: =SUM(E36:E39) -> 1949582 | F35: =SUM(F36:F39) -> 7093872
A36: 1 | B36: تعهدات سرمایه ای در ابتدای سال ( انتقالی از سال قبل) | C36: =[1]تملک!W8 -> 1404083 | D36: =[1]تملک!X8 -> 0 | E36: =[1]تملک!Y8 -> 0 | F36: =SUM(C36:E36) -> 1404083
A37: 2 | B37: فصل اول | C37: =[1]تملک!AA8 -> 1901868 | D37: =[1]تملک!AB8+'[1]پروژه های مولد سازی '!AI8 -> 1418735 | E37: =[1]تملک!AC8 -> 435000 | F37: =SUM(C37:E37) -> 3755603
A38: 3 | B38: فصل دوم | C38: =[1]تملک!AE8 -> 187669 | D38: =[1]تملک!AF8 -> 231935 | E38: =[1]تملک!AG8 -> 1514582 | F38: =SUM(C38:E38) -> 1934186
A39: 4 | B39: سایر فصول | C39: =[1]تملک!AI8 -> 0 | D39: =[1]تملک!AJ8 -> 0 | E39: =[1]تملک!AK8 -> 0 | F39: =SUM(C39:E39) -> 0
A40: توضیحات :
A41: وزیر بهداشت، درمان وآموزش پزشکی: | C41: : رئيس دانشگاه | D41: اعضای هیات امنا:
